BEGIN:VCALENDAR
VERSION:2.0
PRODID:-//AFL Masters - ECPv4.6.23//NONSGML v1.0//EN
CALSCALE:GREGORIAN
METHOD:PUBLISH
X-WR-CALNAME:AFL Masters
X-ORIGINAL-URL:https://aflmasterssa.com.au
X-WR-CALDESC:Events for AFL Masters
BEGIN:VEVENT
DTSTART;TZID=UTC+9.5:20170619T193000
DTEND;TZID=UTC+9.5:20170619T210000
DTSTAMP:20210226T174607
CREATED:20170510T025430Z
LAST-MODIFIED:20170510T025430Z
UID:1087-1497900600-1497906000@aflmasterssa.com.au
SUMMARY:Delegates Meeting
DESCRIPTION:
URL:https://aflmasterssa.com.au/event/delegates-meeting-4/
LOCATION:West Adelaide Football Club\, 57 Milner Rd\, Richmond\, 5033
CATEGORIES:Social Events
END:VEVENT
END:VCALENDAR